BEGIN:VCALENDAR
VERSION:2.0
PRODID:-//Women&#039;s Business Network of Peterborough - ECPv6.15.20//NONSGML v1.0//EN
CALSCALE:GREGORIAN
METHOD:PUBLISH
X-ORIGINAL-URL:https://wbnptbo.ca
X-WR-CALDESC:Events for Women&#039;s Business Network of Peterborough
REFRESH-INTERVAL;VALUE=DURATION:PT1H
X-Robots-Tag:noindex
X-PUBLISHED-TTL:PT1H
BEGIN:VTIMEZONE
TZID:America/Toronto
BEGIN:DAYLIGHT
TZOFFSETFROM:-0500
TZOFFSETTO:-0400
TZNAME:EDT
DTSTART:20250309T070000
END:DAYLIGHT
BEGIN:STANDARD
TZOFFSETFROM:-0400
TZOFFSETTO:-0500
TZNAME:EST
DTSTART:20251102T060000
END:STANDARD
BEGIN:DAYLIGHT
TZOFFSETFROM:-0500
TZOFFSETTO:-0400
TZNAME:EDT
DTSTART:20260308T070000
END:DAYLIGHT
BEGIN:STANDARD
TZOFFSETFROM:-0400
TZOFFSETTO:-0500
TZNAME:EST
DTSTART:20261101T060000
END:STANDARD
BEGIN:DAYLIGHT
TZOFFSETFROM:-0500
TZOFFSETTO:-0400
TZNAME:EDT
DTSTART:20270314T070000
END:DAYLIGHT
BEGIN:STANDARD
TZOFFSETFROM:-0400
TZOFFSETTO:-0500
TZNAME:EST
DTSTART:20271107T060000
END:STANDARD
END:VTIMEZONE
BEGIN:VEVENT
DTSTART;TZID=America/Toronto:20260401T080000
DTEND;TZID=America/Toronto:20260428T170000
DTSTAMP:20260425T064922
CREATED:20260306T175656Z
LAST-MODIFIED:20260401T150224Z
UID:42049-1775030400-1777395600@wbnptbo.ca
SUMMARY:Embracing Diversity: Creating Equitable Work Environments (Micro-credential)
DESCRIPTION:Embracing Diversity: Creating Equitable Work Environments micro-credential course is designed to explore foundational principles\, theories\, and practical strategies for fostering inclusive environments within organizations\, with a focus on Nonprofit Organizations (NPOs). This course examines the importance of EDI\, theoretical frameworks for understanding diversity\, strategies for creating inclusive organizational cultures\, and methods for assessing and evaluating EDI initiatives.\nApril 1 – April 28\, 2026 (must be completed within 4 weeks)\nThis course is delivered online\, asynchronously\, allowing participants to learn and complete coursework in their own time.\nThis course is one of nine courses offered in partnership with TRAICON\, as part of our Nonprofit Management Essentials Suite.
URL:https://wbnptbo.ca/event/embracing-diversity-creating-equitable-work-environments-micro-credential/
LOCATION:Virtual
CATEGORIES:Member Event Submission
ATTACH;FMTTYPE=image/png:https://wbnptbo.ca/wp-content/uploads/2026/03/mC-badge.png
ORGANIZER;CN="Trent University Micro-credentials":MAILTO:microcredential@trentu.ca
END:VEVENT
BEGIN:VEVENT
DTSTART;TZID=America/Toronto:20260401T080000
DTEND;TZID=America/Toronto:20260430T170000
DTSTAMP:20260425T064922
CREATED:20260317T183814Z
LAST-MODIFIED:20260401T150205Z
UID:42069-1775030400-1777568400@wbnptbo.ca
SUMMARY:Introduction to Non-profit Sector
DESCRIPTION:This course offers a comprehensive exploration into the dynamic world of the Not-for-Profit Sector\, providing students with a foundational understanding of its evolution\, structure\, governance\, and regulatory frameworks. Through a combination of theoretical insights and practical case studies\, students will gain the knowledge and skills necessary to navigate and contribute effectively within this vital sector. Topics include: evolution of the not-for-profit sector; navigating the nonprofit landscape; harmonizing governance and foundations of effective governance. \nThis is a virtual\, asynchronous course enabling participants to learn and complete coursework at their own pace.
URL:https://wbnptbo.ca/event/introduction-to-non-profit-sector/
LOCATION:Virtual
CATEGORIES:Member Event Submission
ATTACH;FMTTYPE=image/png:https://wbnptbo.ca/wp-content/uploads/2026/03/mC-badge-1.png
ORGANIZER;CN="Trent University Micro-credentials":MAILTO:microcredential@trentu.ca
END:VEVENT
BEGIN:VEVENT
DTSTART;TZID=America/Toronto:20260424T100000
DTEND;TZID=America/Toronto:20260425T160000
DTSTAMP:20260425T064922
CREATED:20260420T184708Z
LAST-MODIFIED:20260420T184708Z
UID:42214-1777024800-1777132800@wbnptbo.ca
SUMMARY:LYS DAYS
DESCRIPTION:Save the Dates and make it a Road Trip!\nWhat: Local Yarn Shop Days Celebration\nWhere: A River of Yarn Studio\nWhen: April 24 & 25\, 2026\nWho: Open to the public (all skill levels welcome)\nCost: Free to attend\n___________________________________________________________________________________\nDoodles: Design & Knit Custom Colourwork with Mix-and-Match Motifs\nVirtual & In Person Class Friday April 24th at 1:00pm est\nTo register\, click here: https://ariverofyarn.ca/collections/whats-new/products/doodles-design-knit-custom-colourwork-with-mix-and-match-motifs\n___________________________________________________________________________________\nJoin us on LYS Day\, Saturday April 25th at 10:30am for a Making the Time activity with Pamela VanNest. \nPamela is a personal Confidence Coach and author of Making The Time Oracle cards. Pamela will help you identify areas of creativity in your self-care. How creativity enhances other areas in our lives. You will look at how small actions can make all the difference\, and finally we’ll “play” with the Internal Obstacles” and how to “unravel” them for calmer\, more satisfying creative work.\nCurious? Come find out what this is all about!
URL:https://wbnptbo.ca/event/lys-days/
LOCATION:A RIVER OF YARN\, 353 Kent's Bay Rd\, Keene\, Ontario\, K9J6X8\, Canada
CATEGORIES:Member Event Submission
ATTACH;FMTTYPE=image/jpeg:https://wbnptbo.ca/wp-content/uploads/2026/04/LYS-LOGO-2026.jpg
ORGANIZER;CN="TRACY MINNMEA":MAILTO:ariverofyarn@gmail.com
END:VEVENT
BEGIN:VEVENT
DTSTART;TZID=America/Toronto:20260430T080000
DTEND;TZID=America/Toronto:20260625T170000
DTSTAMP:20260425T064922
CREATED:20260319T191617Z
LAST-MODIFIED:20260401T150125Z
UID:42109-1777536000-1782406800@wbnptbo.ca
SUMMARY:Listening Inward\, A Compassionate\, Self-Led Approach to Self-Care and Well-Being.
DESCRIPTION:If you’re feeling the pull to slow down\, quiet self-doubt\, and reconnect with what matters\, you’re welcome to explore what becomes possible when self-care begins with compassion. You know it’s time to care for yourself differently – not by doing more\, but by listening more closely. \nListening Inward – A Compassionate\, Self-Led Approach to Self-Care and Well-Being. \nAn 8 Week Virtual Group Program to Support Your Self-Care \nYou may be at a point where you know\, quietly and clearly\, that something has to change. You’re tired of putting your own plans\, needs\, and longings on hold while you take care of everyone else. \nLet me ask you… \nAre you tired of putting your own plans\, needs\, and longings on hold while you take care of everyone else?\nDo you have an inkling that you have gone along ALL THESE YEARS to get along? \nDo you find yourself wanting to: \nReduce overwhelm and meet your needs with greater calm and confidence?\nStrengthen your trust in yourself and your inner knowing?\nSoften negative self-talk and relate to your inner critic with compassion? \nSelf-care is an outward expression of self-compassion. When we practice self-kindness\, we begin to understand ourselves more clearly – and that understanding naturally flows outward to others. Compassion doesn’t stop with us. It moves through us\, shaping how we relate to our families\, friends\, communities\, and the wider world. \nWhen self-care is rooted in compassion rather than obligation\, it becomes a quiet force for change.\nYou don’t need to be certain — only curious. \nIf you feel a quiet pull toward caring for yourself differently\, this program may be a supportive place to begin.\nYou’ll be invited to explore what truly matters to you and design a self-care blueprint that fits your life — one thoughtful step at a time. \nIncluded in this this 8 week masterclass\nWeekly 75 minutes sessions 7:00pm-8:15 pm ET on Zoom\n1 personal coaching session from May to July 1st.\nThe oracle deck Making the Time\nAn MP3 meditation\nA 200 page blank journal\, Listening Inward\, A Compassionate Self-Care Journal \nRather than following a formula\, you’ll design a self-care blueprint that reflects your values\, your rhythms\, and your real life – supported by a small group and a compassionate\, steady container.
URL:https://wbnptbo.ca/event/listening-inward-a-compassionate-self-led-approach-to-self-care-and-well-being/
LOCATION:Ontario
CATEGORIES:Member Event Submission
ATTACH;FMTTYPE=image/png:https://wbnptbo.ca/wp-content/uploads/2026/03/1-Guidebook-Cover.png
END:VEVENT
END:VCALENDAR