BEGIN:VCALENDAR
VERSION:2.0
PRODID:-//Women&#039;s Business Network of Peterborough - ECPv6.15.20//NONSGML v1.0//EN
CALSCALE:GREGORIAN
METHOD:PUBLISH
X-WR-CALNAME:Women&#039;s Business Network of Peterborough
X-ORIGINAL-URL:https://wbnptbo.ca
X-WR-CALDESC:Events for Women&#039;s Business Network of Peterborough
REFRESH-INTERVAL;VALUE=DURATION:PT1H
X-Robots-Tag:noindex
X-PUBLISHED-TTL:PT1H
BEGIN:VTIMEZONE
TZID:America/Toronto
BEGIN:DAYLIGHT
TZOFFSETFROM:-0500
TZOFFSETTO:-0400
TZNAME:EDT
DTSTART:20230312T070000
END:DAYLIGHT
BEGIN:STANDARD
TZOFFSETFROM:-0400
TZOFFSETTO:-0500
TZNAME:EST
DTSTART:20231105T060000
END:STANDARD
BEGIN:DAYLIGHT
TZOFFSETFROM:-0500
TZOFFSETTO:-0400
TZNAME:EDT
DTSTART:20240310T070000
END:DAYLIGHT
BEGIN:STANDARD
TZOFFSETFROM:-0400
TZOFFSETTO:-0500
TZNAME:EST
DTSTART:20241103T060000
END:STANDARD
BEGIN:DAYLIGHT
TZOFFSETFROM:-0500
TZOFFSETTO:-0400
TZNAME:EDT
DTSTART:20250309T070000
END:DAYLIGHT
BEGIN:STANDARD
TZOFFSETFROM:-0400
TZOFFSETTO:-0500
TZNAME:EST
DTSTART:20251102T060000
END:STANDARD
BEGIN:DAYLIGHT
TZOFFSETFROM:-0500
TZOFFSETTO:-0400
TZNAME:EDT
DTSTART:20260308T070000
END:DAYLIGHT
BEGIN:STANDARD
TZOFFSETFROM:-0400
TZOFFSETTO:-0500
TZNAME:EST
DTSTART:20261101T060000
END:STANDARD
END:VTIMEZONE
BEGIN:VEVENT
DTSTART;TZID=America/Toronto:20250903T173000
DTEND;TZID=America/Toronto:20250903T203000
DTSTAMP:20260420T000638
CREATED:20250731T001749Z
LAST-MODIFIED:20250807T123737Z
UID:41631-1756920600-1756931400@wbnptbo.ca
SUMMARY:Kickoff - September Spark!
DESCRIPTION:Ready to kick off a new season with the Peterborough Women’s Business Network? \nJoin us at the beautiful Elmhirst Resort on September 3rd from 5:30–8:30pm for Spark & Switch\, an energizing night of connection\, conversation\, and community! Practice the art of joining and welcoming conversations\, discover inspiring business minds\, and enjoy a delicious dinner in a stunning setting. No props required\, just bring your curiosity and get ready to shuffle\, share\, and grow your network!
URL:https://wbnptbo.ca/event/kickoff-2/
LOCATION:Elmhirst Resort\, 1045 Settlers Line\, Keene\, Ontario\, K0L 2G0\, Canada
CATEGORIES:WBN Member Meetings
ATTACH;FMTTYPE=image/png:https://wbnptbo.ca/wp-content/uploads/2025/07/1000017203.png
END:VEVENT
BEGIN:VEVENT
DTSTART;TZID=America/Toronto:20240612T180000
DTEND;TZID=America/Toronto:20240612T210000
DTSTAMP:20260420T000638
CREATED:20240207T032602Z
LAST-MODIFIED:20240207T033724Z
UID:40628-1718215200-1718226000@wbnptbo.ca
SUMMARY:Board Meeting - June 2024
DESCRIPTION:The WBN Board of Directors will be meeting to discuss organizational business. \nIf you have any issues you’d like the board to be aware of\, please contact the President at president@wbnptbo.ca.
URL:https://wbnptbo.ca/event/board-meeting-june-2024/
LOCATION:Ontario
CATEGORIES:WBN Board Meetings
ATTACH;FMTTYPE=image/jpeg:https://wbnptbo.ca/wp-content/uploads/2023/10/WBN-Board-Group-Photo-10-2023-scaled-e1698178274529.jpg
END:VEVENT
BEGIN:VEVENT
DTSTART;TZID=America/Toronto:20240508T180000
DTEND;TZID=America/Toronto:20240508T210000
DTSTAMP:20260420T000638
CREATED:20240207T032516Z
LAST-MODIFIED:20240207T033706Z
UID:40626-1715191200-1715202000@wbnptbo.ca
SUMMARY:Board Meeting - May 2024
DESCRIPTION:The WBN Board of Directors will be meeting to discuss organizational business. \nIf you have any issues you’d like the board to be aware of\, please contact the President at president@wbnptbo.ca.
URL:https://wbnptbo.ca/event/board-meeting-may-2024/
LOCATION:Ontario
CATEGORIES:WBN Board Meetings
ATTACH;FMTTYPE=image/jpeg:https://wbnptbo.ca/wp-content/uploads/2023/10/WBN-Board-Group-Photo-10-2023-scaled-e1698178274529.jpg
END:VEVENT
BEGIN:VEVENT
DTSTART;TZID=America/Toronto:20240410T180000
DTEND;TZID=America/Toronto:20240410T210000
DTSTAMP:20260420T000638
CREATED:20240207T032408Z
LAST-MODIFIED:20240207T033642Z
UID:40624-1712772000-1712782800@wbnptbo.ca
SUMMARY:Board Meeting - April 2024
DESCRIPTION:The WBN Board of Directors will be meeting to discuss organizational business. \nIf you have any issues you’d like the board to be aware of\, please contact the President at president@wbnptbo.ca.
URL:https://wbnptbo.ca/event/board-meeting-april-2024/
LOCATION:Ontario
CATEGORIES:WBN Board Meetings
ATTACH;FMTTYPE=image/jpeg:https://wbnptbo.ca/wp-content/uploads/2023/10/WBN-Board-Group-Photo-10-2023-scaled-e1698178274529.jpg
END:VEVENT
BEGIN:VEVENT
DTSTART;TZID=America/Toronto:20240313T180000
DTEND;TZID=America/Toronto:20240313T210000
DTSTAMP:20260420T000638
CREATED:20240207T032143Z
LAST-MODIFIED:20240207T033625Z
UID:40622-1710352800-1710363600@wbnptbo.ca
SUMMARY:Board Meeting - March 2024
DESCRIPTION:The WBN Board of Directors will be meeting to discuss organizational business. \nIf you have any issues you’d like the board to be aware of\, please contact the President at president@wbnptbo.ca.
URL:https://wbnptbo.ca/event/board-meeting-march-2024/
LOCATION:Ontario
CATEGORIES:WBN Board Meetings
ATTACH;FMTTYPE=image/jpeg:https://wbnptbo.ca/wp-content/uploads/2023/10/WBN-Board-Group-Photo-10-2023-scaled-e1698178274529.jpg
END:VEVENT
BEGIN:VEVENT
DTSTART;TZID=America/Toronto:20240221T180000
DTEND;TZID=America/Toronto:20240221T210000
DTSTAMP:20260420T000638
CREATED:20240108T220257Z
LAST-MODIFIED:20240130T205151Z
UID:17195-1708538400-1708549200@wbnptbo.ca
SUMMARY:Board Meeting - February 2024
DESCRIPTION:The WBN Board of Directors will be meeting to discuss organizational business. \nIf you have any issues you’d like the board to be aware of\, please contact the President at president@wbnptbo.ca.
URL:https://wbnptbo.ca/event/board-meeting-february-2024/
LOCATION:Ontario
CATEGORIES:WBN Board Meetings
ATTACH;FMTTYPE=image/jpeg:https://wbnptbo.ca/wp-content/uploads/2023/10/WBN-Board-Group-Photo-10-2023-scaled-e1698178274529.jpg
END:VEVENT
BEGIN:VEVENT
DTSTART;TZID=America/Toronto:20240117T180000
DTEND;TZID=America/Toronto:20240117T210000
DTSTAMP:20260420T000638
CREATED:20240108T214017Z
LAST-MODIFIED:20240108T220402Z
UID:17167-1705514400-1705525200@wbnptbo.ca
SUMMARY:Board Meeting - January 2024
DESCRIPTION:The WBN Board of Directors will be meeting to discuss organizational business. \nIf you have any issues you’d like the board to be aware of\, please contact the President at president@wbnptbo.ca.
URL:https://wbnptbo.ca/event/board-meeting-january-2024/
LOCATION:Ontario
CATEGORIES:WBN Board Meetings
ATTACH;FMTTYPE=image/jpeg:https://wbnptbo.ca/wp-content/uploads/2023/10/WBN-Board-Group-Photo-10-2023-scaled-e1698178274529.jpg
END:VEVENT
END:VCALENDAR