BEGIN:VCALENDAR
VERSION:2.0
PRODID:-//Women&#039;s Business Network of Peterborough - ECPv6.15.20//NONSGML v1.0//EN
CALSCALE:GREGORIAN
METHOD:PUBLISH
X-ORIGINAL-URL:https://wbnptbo.ca
X-WR-CALDESC:Events for Women&#039;s Business Network of Peterborough
REFRESH-INTERVAL;VALUE=DURATION:PT1H
X-Robots-Tag:noindex
X-PUBLISHED-TTL:PT1H
BEGIN:VTIMEZONE
TZID:America/Toronto
BEGIN:DAYLIGHT
TZOFFSETFROM:-0500
TZOFFSETTO:-0400
TZNAME:EDT
DTSTART:20240310T070000
END:DAYLIGHT
BEGIN:STANDARD
TZOFFSETFROM:-0400
TZOFFSETTO:-0500
TZNAME:EST
DTSTART:20241103T060000
END:STANDARD
BEGIN:DAYLIGHT
TZOFFSETFROM:-0500
TZOFFSETTO:-0400
TZNAME:EDT
DTSTART:20250309T070000
END:DAYLIGHT
BEGIN:STANDARD
TZOFFSETFROM:-0400
TZOFFSETTO:-0500
TZNAME:EST
DTSTART:20251102T060000
END:STANDARD
BEGIN:DAYLIGHT
TZOFFSETFROM:-0500
TZOFFSETTO:-0400
TZNAME:EDT
DTSTART:20260308T070000
END:DAYLIGHT
BEGIN:STANDARD
TZOFFSETFROM:-0400
TZOFFSETTO:-0500
TZNAME:EST
DTSTART:20261101T060000
END:STANDARD
END:VTIMEZONE
BEGIN:VEVENT
DTSTART;TZID=America/Toronto:20251122T100000
DTEND;TZID=America/Toronto:20251122T140000
DTSTAMP:20260419T114011
CREATED:20251117T210418Z
LAST-MODIFIED:20251117T210418Z
UID:41886-1763805600-1763820000@wbnptbo.ca
SUMMARY:Wilde Beauty's 6th Anniversary Open House
DESCRIPTION:We’re turning 6 years old\, and it’s time to celebrate with the people who made it all possible —> you! 💛\nJoin us for a cozy\, feel-good day at the studio filled with community\, connection\, and a few golden treats to mark this special milestone. \n✨ What to Expect:\n🍫 Our Famous Hot Chocolate Bar\n🛍️ In-Store Shopping + Special Offers\n🎁 Stocking Stuffers & Holiday Gift Ideas\n👣 Foot Care Products\, Gift Cards & More\n🎉 Giveaways\, Prizes & Exclusive Announcements \nWhether you’ve been part of the Wilde Beauty family for years or you’re brand new to our community\, you’re warmly invited to stop by\, say hello\, and celebrate six incredible years of growth\, care\, and connection. \n💫 Come enjoy a relaxed afternoon\, discover our limited-edition anniversary experiences\, and get a sneak peek at what’s coming for 2026! \nRSVP here to let us know you’re coming and bring a friend or two! \nWe can’t wait to celebrate with you.
URL:https://wbnptbo.ca/event/wilde-beautys-6th-anniversary-open-house/
LOCATION:Wilde Beauty\, 1527 Cherryhill Road\, Peterborough\, ON\, K9K 1A7\, Canada
CATEGORIES:Member Event Submission
ATTACH;FMTTYPE=image/png:https://wbnptbo.ca/wp-content/uploads/2025/11/JOIN-US-celebrate-our-6th-Anniversary.png
END:VEVENT
END:VCALENDAR